BEGIN:VCALENDAR
VERSION:2.0
PRODID:-//NADI Taman Kesedar Jaya - ECPv6.15.13.1//NONSGML v1.0//EN
CALSCALE:GREGORIAN
METHOD:PUBLISH
X-WR-CALNAME:NADI Taman Kesedar Jaya
X-ORIGINAL-URL:https://kesedarjaya.nadi.my
X-WR-CALDESC:Events for NADI Taman Kesedar Jaya
REFRESH-INTERVAL;VALUE=DURATION:PT1H
X-Robots-Tag:noindex
X-PUBLISHED-TTL:PT1H
BEGIN:VTIMEZONE
TZID:Asia/Kuala_Lumpur
BEGIN:STANDARD
TZOFFSETFROM:+0800
TZOFFSETTO:+0800
TZNAME:+08
DTSTART:20250101T000000
END:STANDARD
END:VTIMEZONE
BEGIN:VEVENT
DTSTART;TZID=Asia/Kuala_Lumpur:20260212T150000
DTEND;TZID=Asia/Kuala_Lumpur:20260212T163000
DTSTAMP:20260420T044722
CREATED:20260203T084718Z
LAST-MODIFIED:20260203T084718Z
UID:8259-1770908400-1770913800@kesedarjaya.nadi.my
SUMMARY:Webinar Cybersecurity - Cara Kenal Pasti Fail Berbentuk Virus
DESCRIPTION:
URL:https://kesedarjaya.nadi.my/event/webinar-cybersecurity-cara-kenal-pasti-fail-berbentuk-virus/
CATEGORIES:NADI x CYBERSECURITY
ATTACH;FMTTYPE=image/jpeg:https://kesedarjaya.nadi.my/wp-content/uploads/2026/02/WhatsApp-Image-2026-02-03-at-14.26.49.jpeg
END:VEVENT
BEGIN:VEVENT
DTSTART;TZID=Asia/Kuala_Lumpur:20260225T140000
DTEND;TZID=Asia/Kuala_Lumpur:20260225T150000
DTSTAMP:20260420T044722
CREATED:20260213T033407Z
LAST-MODIFIED:20260220T071224Z
UID:8377-1772028000-1772031600@kesedarjaya.nadi.my
SUMMARY:Program Siri Cyber Hygiene: Bulan Kesedaran Phishing & Scam
DESCRIPTION:
URL:https://kesedarjaya.nadi.my/event/program-siri-cyber-hygiene-bulan-kesedaran-phishing-scam/
CATEGORIES:NADI x CYBERSECURITY
ATTACH;FMTTYPE=image/jpeg:https://kesedarjaya.nadi.my/wp-content/uploads/2026/02/WhatsApp-Image-2026-02-20-at-14.47.46.jpeg
END:VEVENT
END:VCALENDAR